BEGIN:VCALENDAR
VERSION:2.0
BEGIN:VEVENT
URL:https://paddorsl.oztix.com.au/outlet/event/1f34eb35-c37d-4055-8061-876bd5e60edf
DTSTART:20260516T090000Z
DTEND:20260516T090000Z
SUMMARY:Not Drowning Waving
DESCRIPTION:Event details: https://paddorsl.oztix.com.au/outlet/event/1f34eb35-c37d-4055-8061-876bd5e60edf
LOCATION:Paddo RSL (Paddington, NSW)
END:VEVENT
END:VCALENDAR